Workbook

Sheet Orders
A1: Order no. | B1: Date | C1: Customer | D1: Contact | E1: Items | F1: Qty | G1: Total | H1: Deposit | I1: Balance | J1: Payment status | K1: Due date | L1: Order status | M1: Notes
I2: =IF(OR(G2="",H2=""),"",G2-H2)
I3: =IF(OR(G3="",H3=""),"",G3-H3)
I4: =IF(OR(G4="",H4=""),"",G4-H4)
I5: =IF(OR(G5="",H5=""),"",G5-H5)
I6: =IF(OR(G6="",H6=""),"",G6-H6)
I7: =IF(OR(G7="",H7=""),"",G7-H7)
I8: =IF(OR(G8="",H8=""),"",G8-H8)
I9: =IF(OR(G9="",H9=""),"",G9-H9)
I10: =IF(OR(G10="",H10=""),"",G10-H10)
I11: =IF(OR(G11="",H11=""),"",G11-H11)
I12: =IF(OR(G12="",H12=""),"",G12-H12)
I13: =IF(OR(G13="",H13=""),"",G13-H13)
... I101: =IF(OR(G101="",H101=""),"",G101-H101)
A102: Totals | F102: =SUM(F2:F101) -> 0 | G102: =SUM(G2:G101) -> 0 | H102: =SUM(H2:H101) -> 0 | I102: =SUM(I2:I101) -> 0

Sheet Summary
A1: Totals by item | C1: Totals by due date | D1: Orders | E1: Balance due
B2: =IF(A2="","",SUMIF(Orders!$E$2:$E$101,A2,Orders!$F$2:$F$101)) | D2: =IF(C2="","",COUNTIF(Orders!$K$2:$K$101,C2)) | E2: =IF(C2="","",SUMIF(Orders!$K$2:$K$101,C2,Orders!$I$2:$I$101))
B3: =IF(A3="","",SUMIF(Orders!$E$2:$E$101,A3,Orders!$F$2:$F$101)) | D3: =IF(C3="","",COUNTIF(Orders!$K$2:$K$101,C3)) | E3: =IF(C3="","",SUMIF(Orders!$K$2:$K$101,C3,Orders!$I$2:$I$101))
B4: =IF(A4="","",SUMIF(Orders!$E$2:$E$101,A4,Orders!$F$2:$F$101)) | D4: =IF(C4="","",COUNTIF(Orders!$K$2:$K$101,C4)) | E4: =IF(C4="","",SUMIF(Orders!$K$2:$K$101,C4,Orders!$I$2:$I$101))
B5: =IF(A5="","",SUMIF(Orders!$E$2:$E$101,A5,Orders!$F$2:$F$101)) | D5: =IF(C5="","",COUNTIF(Orders!$K$2:$K$101,C5)) | E5: =IF(C5="","",SUMIF(Orders!$K$2:$K$101,C5,Orders!$I$2:$I$101))
B6: =IF(A6="","",SUMIF(Orders!$E$2:$E$101,A6,Orders!$F$2:$F$101)) | D6: =IF(C6="","",COUNTIF(Orders!$K$2:$K$101,C6)) | E6: =IF(C6="","",SUMIF(Orders!$K$2:$K$101,C6,Orders!$I$2:$I$101))
B7: =IF(A7="","",SUMIF(Orders!$E$2:$E$101,A7,Orders!$F$2:$F$101)) | D7: =IF(C7="","",COUNTIF(Orders!$K$2:$K$101,C7)) | E7: =IF(C7="","",SUMIF(Orders!$K$2:$K$101,C7,Orders!$I$2:$I$101))
B8: =IF(A8="","",SUMIF(Orders!$E$2:$E$101,A8,Orders!$F$2:$F$101)) | D8: =IF(C8="","",COUNTIF(Orders!$K$2:$K$101,C8)) | E8: =IF(C8="","",SUMIF(Orders!$K$2:$K$101,C8,Orders!$I$2:$I$101))
B9: =IF(A9="","",SUMIF(Orders!$E$2:$E$101,A9,Orders!$F$2:$F$101)) | D9: =IF(C9="","",COUNTIF(Orders!$K$2:$K$101,C9)) | E9: =IF(C9="","",SUMIF(Orders!$K$2:$K$101,C9,Orders!$I$2:$I$101))
B10: =IF(A10="","",SUMIF(Orders!$E$2:$E$101,A10,Orders!$F$2:$F$101)) | D10: =IF(C10="","",COUNTIF(Orders!$K$2:$K$101,C10)) | E10: =IF(C10="","",SUMIF(Orders!$K$2:$K$101,C10,Orders!$I$2:$I$101))
B11: =IF(A11="","",SUMIF(Orders!$E$2:$E$101,A11,Orders!$F$2:$F$101)) | D11: =IF(C11="","",COUNTIF(Orders!$K$2:$K$101,C11)) | E11: =IF(C11="","",SUMIF(Orders!$K$2:$K$101,C11,Orders!$I$2:$I$101))
B12: =IF(A12="","",SUMIF(Orders!$E$2:$E$101,A12,Orders!$F$2:$F$101)) | D12: =IF(C12="","",COUNTIF(Orders!$K$2:$K$101,C12)) | E12: =IF(C12="","",SUMIF(Orders!$K$2:$K$101,C12,Orders!$I$2:$I$101))
B13: =IF(A13="","",SUMIF(Orders!$E$2:$E$101,A13,Orders!$F$2:$F$101)) | D13: =IF(C13="","",COUNTIF(Orders!$K$2:$K$101,C13)) | E13: =IF(C13="","",SUMIF(Orders!$K$2:$K$101,C13,Orders!$I$2:$I$101))
... B21: =IF(A21="","",SUMIF(Orders!$E$2:$E$101,A21,Orders!$F$2:$F$101)) | D21: =IF(C21="","",COUNTIF(Orders!$K$2:$K$101,C21)) | E21: =IF(C21="","",SUMIF(Orders!$K$2:$K$101,C21,Orders!$I$2:$I$101))

Sheet Read me
A1: TEMPLATE | B1: Order Tracker Spreadsheet
A2: ORDERS | B2: Enter one order per row. Balance calculates from Total minus Deposit; select payment and order statuses from the dropdowns.
A3: SUMMARY | B3: Enter an item in column A to total its quantity. Enter a due date in column C to count orders and sum balances for that date.
A4: PAPER | B4: Print setup defaults to A4 landscape. Change page setup to US Letter if needed.
A5: PRIVACY | B5: Keep customer contact details private and share the workbook only with people who need it.
A6: LICENCE | B6: Free for personal and business use. Do not resell or redistribute this template.
A7: FULL TERMS | B7: https://preorderform.com/template-licence
