Workbook

Sheet Orders
A1: Order date | B1: Customer name | C1: Phone | D1: Item | E1: Option | F1: Quantity | G1: Unit price | H1: Line total | I1: Pickup date | J1: Pickup slot | K1: Payment method | L1: Paid | M1: Collected | N1: Notes
H2: =IF(OR(F2="",G2=""),"",F2*G2)
H3: =IF(OR(F3="",G3=""),"",F3*G3)
H4: =IF(OR(F4="",G4=""),"",F4*G4)
H5: =IF(OR(F5="",G5=""),"",F5*G5)
H6: =IF(OR(F6="",G6=""),"",F6*G6)
H7: =IF(OR(F7="",G7=""),"",F7*G7)
H8: =IF(OR(F8="",G8=""),"",F8*G8)
H9: =IF(OR(F9="",G9=""),"",F9*G9)
H10: =IF(OR(F10="",G10=""),"",F10*G10)
H11: =IF(OR(F11="",G11=""),"",F11*G11)
H12: =IF(OR(F12="",G12=""),"",F12*G12)
H13: =IF(OR(F13="",G13=""),"",F13*G13)
... H101: =IF(OR(F101="",G101=""),"",F101*G101)
G102: Total | H102: =SUM(H2:H101) -> 0

Sheet Prep list
A1: Item | B1: Quantity to prepare
B2: =IF(A2="","",SUMIF(Orders!$D$2:$D$101,A2,Orders!$F$2:$F$101))
B3: =IF(A3="","",SUMIF(Orders!$D$2:$D$101,A3,Orders!$F$2:$F$101))
B4: =IF(A4="","",SUMIF(Orders!$D$2:$D$101,A4,Orders!$F$2:$F$101))
B5: =IF(A5="","",SUMIF(Orders!$D$2:$D$101,A5,Orders!$F$2:$F$101))
B6: =IF(A6="","",SUMIF(Orders!$D$2:$D$101,A6,Orders!$F$2:$F$101))
B7: =IF(A7="","",SUMIF(Orders!$D$2:$D$101,A7,Orders!$F$2:$F$101))
B8: =IF(A8="","",SUMIF(Orders!$D$2:$D$101,A8,Orders!$F$2:$F$101))
B9: =IF(A9="","",SUMIF(Orders!$D$2:$D$101,A9,Orders!$F$2:$F$101))
B10: =IF(A10="","",SUMIF(Orders!$D$2:$D$101,A10,Orders!$F$2:$F$101))
B11: =IF(A11="","",SUMIF(Orders!$D$2:$D$101,A11,Orders!$F$2:$F$101))
B12: =IF(A12="","",SUMIF(Orders!$D$2:$D$101,A12,Orders!$F$2:$F$101))
B13: =IF(A13="","",SUMIF(Orders!$D$2:$D$101,A13,Orders!$F$2:$F$101))
... B21: =IF(A21="","",SUMIF(Orders!$D$2:$D$101,A21,Orders!$F$2:$F$101))

Sheet Summary
A1: Measure | B1: Value
A2: Order count | B2: =COUNTA(Orders!B2:B101) -> 0
A3: Total sales | B3: =SUM(Orders!H2:H101) -> 0
A4: Paid sales | B4: =SUMIF(Orders!L2:L101,"Yes",Orders!H2:H101) -> 0
A5: Unpaid sales | B5: =SUMIF(Orders!L2:L101,"No",Orders!H2:H101) -> 0
A6: Collected orders | B6: =COUNTIF(Orders!M2:M101,"Yes") -> 0
A7: Not collected | B7: =COUNTIF(Orders!M2:M101,"No") -> 0

Sheet Read me
A1: TEMPLATE | B1: Bakery Order Tracker Order Tracker
A2: ORDERS | B2: Enter one row per product and customer. Line totals calculate from quantity and unit price.
A3: PREP LIST | B3: Enter item names in column A. The quantity column totals matching orders automatically.
A4: SUMMARY | B4: The workbook summarises order count, sales, paid and unpaid totals, and collection status.
A5: PAPER | B5: Print setup defaults to A4. Change page setup to US Letter if needed.
A6: LICENCE | B6: Free for personal and business use. Do not resell or redistribute this template.
A7: FULL TERMS | B7: https://preorderform.com/template-licence
